Package: POWSC Version: 1.19.0 Command: /home/biocbuild/bbs-3.23-bioc/R/bin/R CMD INSTALL POWSC StartedAt: 2025-11-05 15:27:35 -0500 (Wed, 05 Nov 2025) EndedAt: 2025-11-05 15:28:02 -0500 (Wed, 05 Nov 2025) EllapsedTime: 27.5 seconds RetCode: 0 Status: OK