Package: POWSC Version: 1.19.0 Command: /home/biocbuild/bbs-3.23-bioc/R/bin/R CMD build --keep-empty-dirs --no-resave-data POWSC StartedAt: 2025-11-05 19:22:00 -0500 (Wed, 05 Nov 2025) EndedAt: 2025-11-05 19:23:20 -0500 (Wed, 05 Nov 2025) EllapsedTime: 80.1 seconds RetCode: 0 Status: OK PackageFile: POWSC_1.19.0.tar.gz PackageFileSize: 1.136 MiB