Package: POWSC Version: 1.17.0 Command: /Library/Frameworks/R.framework/Resources/bin/R CMD INSTALL POWSC StartedAt: 2025-10-03 15:22:11 -0400 (Fri, 03 Oct 2025) EndedAt: 2025-10-03 15:22:50 -0400 (Fri, 03 Oct 2025) EllapsedTime: 38.3 seconds RetCode: 0 Status: OK