Package: POWSC Version: 1.17.0 Command: /Library/Frameworks/R.framework/Resources/bin/R CMD build --keep-empty-dirs --no-resave-data POWSC StartedAt: 2025-10-03 18:30:41 -0400 (Fri, 03 Oct 2025) EndedAt: 2025-10-03 18:32:13 -0400 (Fri, 03 Oct 2025) EllapsedTime: 91.4 seconds RetCode: 0 Status: OK PackageFile: POWSC_1.17.0.tar.gz PackageFileSize: 1.14 MiB