Package: POWSC Version: 1.17.0 Command: rm -rf POWSC.buildbin-libdir && mkdir POWSC.buildbin-libdir && /Users/biocbuild/BBS/utils/build-universal.sh POWSC_1.17.0.tar.gz /Library/Frameworks/R.framework/Resources/bin/R POWSC.buildbin-libdir StartedAt: 2025-10-04 02:21:52 -0400 (Sat, 04 Oct 2025) EndedAt: 2025-10-04 02:22:33 -0400 (Sat, 04 Oct 2025) EllapsedTime: 41.6 seconds RetCode: 0 Status: OK PackageFile: POWSC_1.17.0.tgz PackageFileSize: 1.36 MiB