Package: POMA Version: 1.21.0 Command: /home/biocbuild/bbs-3.23-bioc/R/bin/R CMD INSTALL POMA StartedAt: 2025-11-05 16:05:10 -0500 (Wed, 05 Nov 2025) EndedAt: 2025-11-05 16:05:14 -0500 (Wed, 05 Nov 2025) EllapsedTime: 4.2 seconds RetCode: 0 Status: OK