Package: POMA Version: 1.19.0 Command: /Library/Frameworks/R.framework/Resources/bin/R CMD INSTALL POMA StartedAt: 2025-10-14 15:48:24 -0400 (Tue, 14 Oct 2025) EndedAt: 2025-10-14 15:48:30 -0400 (Tue, 14 Oct 2025) EllapsedTime: 5.9 seconds RetCode: 0 Status: OK