Package: POMA Version: 1.19.0 Command: /Library/Frameworks/R.framework/Resources/bin/R CMD build --keep-empty-dirs --no-resave-data POMA StartedAt: 2025-10-14 18:44:37 -0400 (Tue, 14 Oct 2025) EndedAt: 2025-10-14 18:45:33 -0400 (Tue, 14 Oct 2025) EllapsedTime: 56.5 seconds RetCode: 0 Status: OK PackageFile: POMA_1.19.0.tar.gz PackageFileSize: 2.17 MiB