Package: POMA Version: 1.19.0 Command: rm -rf POMA.buildbin-libdir && mkdir POMA.buildbin-libdir && /Users/biocbuild/BBS/utils/build-universal.sh POMA_1.19.0.tar.gz /Library/Frameworks/R.framework/Resources/bin/R POMA.buildbin-libdir StartedAt: 2025-10-15 03:00:41 -0400 (Wed, 15 Oct 2025) EndedAt: 2025-10-15 03:00:50 -0400 (Wed, 15 Oct 2025) EllapsedTime: 8.2 seconds RetCode: 0 Status: OK PackageFile: POMA_1.19.0.tgz PackageFileSize: 2.317 MiB