Package: POMA Version: 1.21.0 Maintainer: Pol Castellano-Escuder MaintainerEmail: polcaes at gmail.com git_url: https://git.bioconductor.org/packages/POMA git_branch: devel git_last_commit: e8ab1e6 git_last_commit_date: 2025-10-29 11:01:06 -0400 (Wed, 29 Oct 2025)