Package: PMScanR Version: 0.99.6 Command: /home/biocbuild/bbs-3.22-bioc/R/bin/R CMD INSTALL PMScanR StartedAt: 2025-10-03 15:31:28 -0400 (Fri, 03 Oct 2025) EndedAt: 2025-10-03 15:32:04 -0400 (Fri, 03 Oct 2025) EllapsedTime: 35.6 seconds RetCode: 0 Status: OK