Package: PMScanR Version: 0.99.6 Command: /home/biocbuild/bbs-3.22-bioc/R/bin/R CMD check --install=check:PMScanR.install-out.txt --library=/home/biocbuild/bbs-3.22-bioc/R/site-library --timings PMScanR_0.99.6.tar.gz StartedAt: 2025-10-04 02:55:03 -0400 (Sat, 04 Oct 2025) EndedAt: 2025-10-04 02:59:47 -0400 (Sat, 04 Oct 2025) EllapsedTime: 284.3 seconds RetCode: 0 Status: OK CheckDir: PMScanR.Rcheck Warnings: 0