Package: PMScanR Version: 1.1.0 Command: /home/biocbuild/bbs-3.23-bioc/R/bin/R CMD INSTALL PMScanR StartedAt: 2025-10-31 15:44:02 -0400 (Fri, 31 Oct 2025) EndedAt: 2025-10-31 15:44:37 -0400 (Fri, 31 Oct 2025) EllapsedTime: 35.4 seconds RetCode: 0 Status: OK