Package: PMScanR Version: 1.1.0 Command: /home/biocbuild/bbs-3.23-bioc/R/bin/R CMD check --install=check:PMScanR.install-out.txt --library=/home/biocbuild/bbs-3.23-bioc/R/site-library --timings PMScanR_1.1.0.tar.gz StartedAt: 2025-11-01 02:21:06 -0400 (Sat, 01 Nov 2025) EndedAt: 2025-11-01 02:25:53 -0400 (Sat, 01 Nov 2025) EllapsedTime: 286.3 seconds RetCode: 0 Status: OK CheckDir: PMScanR.Rcheck Warnings: 0