Package: PMScanR Version: 1.1.0 Command: /home/biocbuild/bbs-3.23-bioc/R/bin/R CMD build --keep-empty-dirs --no-resave-data PMScanR StartedAt: 2025-10-31 19:28:45 -0400 (Fri, 31 Oct 2025) EndedAt: 2025-10-31 19:29:43 -0400 (Fri, 31 Oct 2025) EllapsedTime: 58.1 seconds RetCode: 0 Status: OK PackageFile: PMScanR_1.1.0.tar.gz PackageFileSize: 1.767 MiB