Package: PMScanR Version: 0.99.6 Command: /Library/Frameworks/R.framework/Resources/bin/R CMD INSTALL PMScanR StartedAt: 2025-10-03 15:30:40 -0400 (Fri, 03 Oct 2025) EndedAt: 2025-10-03 15:31:29 -0400 (Fri, 03 Oct 2025) EllapsedTime: 49.2 seconds RetCode: 0 Status: OK