Package: PMScanR Version: 0.99.6 Command: rm -rf PMScanR.buildbin-libdir && mkdir PMScanR.buildbin-libdir && /Users/biocbuild/BBS/utils/build-universal.sh PMScanR_0.99.6.tar.gz /Library/Frameworks/R.framework/Resources/bin/R PMScanR.buildbin-libdir StartedAt: 2025-10-04 02:21:39 -0400 (Sat, 04 Oct 2025) EndedAt: 2025-10-04 02:22:32 -0400 (Sat, 04 Oct 2025) EllapsedTime: 53.2 seconds RetCode: 0 Status: OK PackageFile: PMScanR_0.99.6.tgz PackageFileSize: 1.996 MiB