Package: PMScanR Version: 0.99.6 Command: /Library/Frameworks/R.framework/Resources/bin/R CMD INSTALL PMScanR StartedAt: 2025-10-05 15:18:22 -0400 (Sun, 05 Oct 2025) EndedAt: 2025-10-05 15:18:36 -0400 (Sun, 05 Oct 2025) EllapsedTime: 14.8 seconds RetCode: 0 Status: OK