Package: PMScanR Version: 0.99.6 Command: /Library/Frameworks/R.framework/Resources/bin/R CMD build --keep-empty-dirs --no-resave-data PMScanR StartedAt: 2025-10-03 17:21:21 -0400 (Fri, 03 Oct 2025) EndedAt: 2025-10-03 17:21:45 -0400 (Fri, 03 Oct 2025) EllapsedTime: 24.3 seconds RetCode: 0 Status: OK PackageFile: PMScanR_0.99.6.tar.gz PackageFileSize: 1.944 MiB