Package: PMScanR Version: 0.99.6 Maintainer: Jan Pawel Jastrzebski MaintainerEmail: bioinformatyka at gmail.com git_url: https://git.bioconductor.org/packages/PMScanR git_branch: devel git_last_commit: 5f7e650 git_last_commit_date: 2025-09-26 03:34:16 -0400 (Fri, 26 Sep 2025)