Package: PLSDAbatch Version: 1.5.0 Command: /home/biocbuild/R/R/bin/R CMD INSTALL PLSDAbatch StartedAt: 2025-10-23 20:53:17 -0000 (Thu, 23 Oct 2025) EndedAt: 2025-10-23 20:54:13 -0000 (Thu, 23 Oct 2025) EllapsedTime: 56.5 seconds RetCode: 0 Status: OK