Package: PLSDAbatch Version: 1.5.0 Command: /home/biocbuild/R/R/bin/R CMD build --keep-empty-dirs --no-resave-data PLSDAbatch StartedAt: 2025-10-21 02:05:36 -0000 (Tue, 21 Oct 2025) EndedAt: 2025-10-21 02:07:27 -0000 (Tue, 21 Oct 2025) EllapsedTime: 111.0 seconds RetCode: 0 Status: OK PackageFile: PLSDAbatch_1.5.0.tar.gz PackageFileSize: 1.206 MiB