Package: PLSDAbatch Version: 1.7.0 Command: /home/biocbuild/bbs-3.23-bioc/R/bin/R CMD INSTALL PLSDAbatch StartedAt: 2025-11-20 15:30:57 -0500 (Thu, 20 Nov 2025) EndedAt: 2025-11-20 15:31:43 -0500 (Thu, 20 Nov 2025) EllapsedTime: 46.0 seconds RetCode: 0 Status: OK