Package: PLSDAbatch Version: 1.7.0 Command: /home/biocbuild/bbs-3.23-bioc/R/bin/R CMD check --install=check:PLSDAbatch.install-out.txt --library=/home/biocbuild/bbs-3.23-bioc/R/site-library --timings PLSDAbatch_1.7.0.tar.gz StartedAt: 2025-11-22 02:40:48 -0500 (Sat, 22 Nov 2025) EndedAt: 2025-11-22 02:45:53 -0500 (Sat, 22 Nov 2025) EllapsedTime: 305.3 seconds RetCode: 0 Status: OK CheckDir: PLSDAbatch.Rcheck Warnings: 0