Package: PLSDAbatch Version: 1.5.0 Command: /Library/Frameworks/R.framework/Resources/bin/R CMD INSTALL PLSDAbatch StartedAt: 2025-10-05 15:30:22 -0400 (Sun, 05 Oct 2025) EndedAt: 2025-10-05 15:31:20 -0400 (Sun, 05 Oct 2025) EllapsedTime: 57.8 seconds RetCode: 0 Status: OK