Package: PLSDAbatch Version: 1.5.0 Command: /Library/Frameworks/R.framework/Resources/bin/R CMD build --keep-empty-dirs --no-resave-data PLSDAbatch StartedAt: 2025-10-03 18:29:42 -0400 (Fri, 03 Oct 2025) EndedAt: 2025-10-03 18:31:20 -0400 (Fri, 03 Oct 2025) EllapsedTime: 98.5 seconds RetCode: 0 Status: OK PackageFile: PLSDAbatch_1.5.0.tar.gz PackageFileSize: 1.625 MiB