Package: PLSDAbatch Version: 1.5.0 Maintainer: Yiwen (Eva) Wang MaintainerEmail: anjiwangyiwen at gmail.com git_url: https://git.bioconductor.org/packages/PLSDAbatch git_branch: devel git_last_commit: b66afd2 git_last_commit_date: 2025-04-15 13:25:54 -0400 (Tue, 15 Apr 2025)