Package: PLPE Version: 1.71.0 Command: /home/biocbuild/bbs-3.23-bioc/R/bin/R CMD INSTALL PLPE StartedAt: 2025-11-20 15:13:04 -0500 (Thu, 20 Nov 2025) EndedAt: 2025-11-20 15:13:08 -0500 (Thu, 20 Nov 2025) EllapsedTime: 3.4 seconds RetCode: 0 Status: OK