Package: PLPE Version: 1.71.0 Command: /home/biocbuild/bbs-3.23-bioc/R/bin/R CMD build --keep-empty-dirs --no-resave-data PLPE StartedAt: 2025-11-20 19:18:49 -0500 (Thu, 20 Nov 2025) EndedAt: 2025-11-20 19:18:57 -0500 (Thu, 20 Nov 2025) EllapsedTime: 8.0 seconds RetCode: 0 Status: OK PackageFile: PLPE_1.71.0.tar.gz PackageFileSize: 262.9 KiB