Package: PLPE Version: 1.69.0 Command: /Library/Frameworks/R.framework/Resources/bin/R CMD build --keep-empty-dirs --no-resave-data PLPE StartedAt: 2025-10-09 17:20:03 -0400 (Thu, 09 Oct 2025) EndedAt: 2025-10-09 17:20:08 -0400 (Thu, 09 Oct 2025) EllapsedTime: 5.1 seconds RetCode: 0 Status: OK PackageFile: PLPE_1.69.0.tar.gz PackageFileSize: 263 KiB