Package: PLPE Version: 1.69.0 Command: rm -rf PLPE.buildbin-libdir && mkdir PLPE.buildbin-libdir && /Users/biocbuild/BBS/utils/build-universal.sh PLPE_1.69.0.tar.gz /Library/Frameworks/R.framework/Resources/bin/R PLPE.buildbin-libdir StartedAt: 2025-10-09 22:51:49 -0400 (Thu, 09 Oct 2025) EndedAt: 2025-10-09 22:51:51 -0400 (Thu, 09 Oct 2025) EllapsedTime: 2.1 seconds RetCode: 0 Status: OK PackageFile: PLPE_1.69.0.tgz PackageFileSize: 302.8 KiB