Package: PIUMA Version: 1.7.0 Command: /home/biocbuild/bbs-3.23-bioc/R/bin/R CMD INSTALL PIUMA StartedAt: 2025-11-05 15:29:57 -0500 (Wed, 05 Nov 2025) EndedAt: 2025-11-05 15:30:26 -0500 (Wed, 05 Nov 2025) EllapsedTime: 28.3 seconds RetCode: 0 Status: OK