Package: PIPETS Version: 1.7.0 Command: /home/biocbuild/bbs-3.23-bioc/R/bin/R CMD INSTALL PIPETS StartedAt: 2025-11-06 15:23:24 -0500 (Thu, 06 Nov 2025) EndedAt: 2025-11-06 15:23:34 -0500 (Thu, 06 Nov 2025) EllapsedTime: 9.8 seconds RetCode: 0 Status: OK