Package: PIPETS Version: 1.7.0 Command: /home/biocbuild/bbs-3.23-bioc/R/bin/R CMD build --keep-empty-dirs --no-resave-data PIPETS StartedAt: 2025-11-06 19:12:04 -0500 (Thu, 06 Nov 2025) EndedAt: 2025-11-06 19:12:21 -0500 (Thu, 06 Nov 2025) EllapsedTime: 17.0 seconds RetCode: 0 Status: OK PackageFile: PIPETS_1.7.0.tar.gz PackageFileSize: 2.882 MiB