Package: PIPETS Version: 1.5.0 Command: /Library/Frameworks/R.framework/Resources/bin/R CMD INSTALL PIPETS StartedAt: 2025-10-10 15:23:50 -0400 (Fri, 10 Oct 2025) EndedAt: 2025-10-10 15:24:06 -0400 (Fri, 10 Oct 2025) EllapsedTime: 15.9 seconds RetCode: 0 Status: OK