Package: PIPETS Version: 1.5.0 Command: /Library/Frameworks/R.framework/Resources/bin/R CMD build --keep-empty-dirs --no-resave-data PIPETS StartedAt: 2025-10-10 18:40:43 -0400 (Fri, 10 Oct 2025) EndedAt: 2025-10-10 18:41:12 -0400 (Fri, 10 Oct 2025) EllapsedTime: 28.7 seconds RetCode: 0 Status: OK PackageFile: PIPETS_1.5.0.tar.gz PackageFileSize: 2.882 MiB