Package: PICB Version: 1.1.1 Command: /home/biocbuild/R/R/bin/R CMD INSTALL PICB StartedAt: 2025-10-13 21:02:21 -0000 (Mon, 13 Oct 2025) EndedAt: 2025-10-13 21:02:25 -0000 (Mon, 13 Oct 2025) EllapsedTime: 4.6 seconds RetCode: 0 Status: OK