Package: PICB Version: 1.1.1 Command: /home/biocbuild/R/R/bin/R CMD build --keep-empty-dirs --no-resave-data PICB StartedAt: 2025-10-14 02:34:55 -0000 (Tue, 14 Oct 2025) EndedAt: 2025-10-14 02:36:45 -0000 (Tue, 14 Oct 2025) EllapsedTime: 110.1 seconds RetCode: 0 Status: OK PackageFile: PICB_1.1.1.tar.gz PackageFileSize: 4.684 MiB