Package: PICB Version: 1.1.1 Command: /home/biocbuild/bbs-3.22-bioc/R/bin/R CMD check --install=check:PICB.install-out.txt --library=/home/biocbuild/bbs-3.22-bioc/R/site-library --timings PICB_1.1.1.tar.gz StartedAt: 2025-10-07 02:57:38 -0400 (Tue, 07 Oct 2025) EndedAt: 2025-10-07 03:08:11 -0400 (Tue, 07 Oct 2025) EllapsedTime: 633.6 seconds RetCode: 0 Status: OK CheckDir: PICB.Rcheck Warnings: 0