Package: PICB Version: 1.3.0 Command: /home/biocbuild/bbs-3.23-bioc/R/bin/R CMD INSTALL PICB StartedAt: 2025-11-04 15:26:20 -0500 (Tue, 04 Nov 2025) EndedAt: 2025-11-04 15:26:23 -0500 (Tue, 04 Nov 2025) EllapsedTime: 2.8 seconds RetCode: 0 Status: OK