Package: PICB Version: 1.3.0 Command: /home/biocbuild/bbs-3.23-bioc/R/bin/R CMD build --keep-empty-dirs --no-resave-data PICB StartedAt: 2025-11-04 19:12:03 -0500 (Tue, 04 Nov 2025) EndedAt: 2025-11-04 19:13:29 -0500 (Tue, 04 Nov 2025) EllapsedTime: 86.2 seconds RetCode: 0 Status: OK PackageFile: PICB_1.3.0.tar.gz PackageFileSize: 4.674 MiB