Package: PECA Version: 1.45.0 Command: /Library/Frameworks/R.framework/Resources/bin/R CMD build --keep-empty-dirs --no-resave-data PECA StartedAt: 2025-10-20 18:45:35 -0400 (Mon, 20 Oct 2025) EndedAt: 2025-10-20 18:46:38 -0400 (Mon, 20 Oct 2025) EllapsedTime: 63.1 seconds RetCode: 0 Status: OK PackageFile: PECA_1.45.0.tar.gz PackageFileSize: 214.5 KiB