Package: PECA Version: 1.45.0 Command: /Library/Frameworks/R.framework/Resources/bin/R CMD INSTALL PECA StartedAt: 2025-09-29 15:09:57 -0400 (Mon, 29 Sep 2025) EndedAt: 2025-09-29 15:10:07 -0400 (Mon, 29 Sep 2025) EllapsedTime: 9.6 seconds RetCode: 0 Status: OK