Package: PECA Version: 1.45.0 Command: /Library/Frameworks/R.framework/Resources/bin/R CMD build --keep-empty-dirs --no-resave-data PECA StartedAt: 2025-09-29 17:17:49 -0400 (Mon, 29 Sep 2025) EndedAt: 2025-09-29 17:18:06 -0400 (Mon, 29 Sep 2025) EllapsedTime: 17.2 seconds RetCode: 0 Status: OK PackageFile: PECA_1.45.0.tar.gz PackageFileSize: 214.5 KiB