Package: PECA Version: 1.45.0 Command: rm -rf PECA.buildbin-libdir && mkdir PECA.buildbin-libdir && /Users/biocbuild/BBS/utils/build-universal.sh PECA_1.45.0.tar.gz /Library/Frameworks/R.framework/Resources/bin/R PECA.buildbin-libdir StartedAt: 2025-09-29 22:46:06 -0400 (Mon, 29 Sep 2025) EndedAt: 2025-09-29 22:46:16 -0400 (Mon, 29 Sep 2025) EllapsedTime: 9.2 seconds RetCode: 0 Status: OK PackageFile: PECA_1.45.0.tgz PackageFileSize: 224.3 KiB