Package: PDATK Version: 1.19.0 Command: /home/biocbuild/bbs-3.23-bioc/R/bin/R CMD build --keep-empty-dirs --no-resave-data PDATK StartedAt: 2025-11-20 19:14:30 -0500 (Thu, 20 Nov 2025) EndedAt: 2025-11-20 19:16:16 -0500 (Thu, 20 Nov 2025) EllapsedTime: 106.2 seconds RetCode: 0 Status: OK PackageFile: PDATK_1.19.0.tar.gz PackageFileSize: 3.004 MiB