Package: PDATK Version: 1.17.0 Command: /Library/Frameworks/R.framework/Resources/bin/R CMD INSTALL PDATK StartedAt: 2025-10-10 15:44:16 -0400 (Fri, 10 Oct 2025) EndedAt: 2025-10-10 15:45:19 -0400 (Fri, 10 Oct 2025) EllapsedTime: 62.2 seconds RetCode: 0 Status: OK