Package: PDATK Version: 1.17.0 Command: /Library/Frameworks/R.framework/Resources/bin/R CMD build --keep-empty-dirs --no-resave-data PDATK StartedAt: 2025-10-10 18:36:54 -0400 (Fri, 10 Oct 2025) EndedAt: 2025-10-10 18:39:55 -0400 (Fri, 10 Oct 2025) EllapsedTime: 180.9 seconds RetCode: 0 Status: OK PackageFile: PDATK_1.17.0.tar.gz PackageFileSize: 3.004 MiB