Package: PDATK Version: 1.17.0 Maintainer: Benjamin Haibe-Kains MaintainerEmail: benjamin.haibe.kains at utoronto.ca git_url: https://git.bioconductor.org/packages/PDATK git_branch: devel git_last_commit: c091f7b git_last_commit_date: 2025-04-15 12:20:55 -0400 (Tue, 15 Apr 2025)