Package: PCAtools Version: 2.21.0 Command: rm -rf PCAtools.buildbin-libdir && mkdir PCAtools.buildbin-libdir && F:\biocbuild\bbs-3.22-bioc\R\bin\R.exe CMD INSTALL --build --library=PCAtools.buildbin-libdir PCAtools_2.21.0.tar.gz StartedAt: 2025-08-15 10:55:50 -0400 (Fri, 15 Aug 2025) EndedAt: 2025-08-15 10:56:52 -0400 (Fri, 15 Aug 2025) EllapsedTime: 62.1 seconds RetCode: 0 Status: OK PackageFile: PCAtools_2.21.0.zip PackageFileSize: 2.627 MiB